BEGIN:VCALENDAR
VERSION:2.0
PRODID:-//Holy Trinity Evangelical Lutheran Church - ECPv6.15.20//NONSGML v1.0//EN
CALSCALE:GREGORIAN
METHOD:PUBLISH
X-WR-CALNAME:Holy Trinity Evangelical Lutheran Church
X-ORIGINAL-URL:https://www.holytrinity.net
X-WR-CALDESC:Events for Holy Trinity Evangelical Lutheran Church
REFRESH-INTERVAL;VALUE=DURATION:PT1H
X-Robots-Tag:noindex
X-PUBLISHED-TTL:PT1H
BEGIN:VTIMEZONE
TZID:America/New_York
BEGIN:DAYLIGHT
TZOFFSETFROM:-0500
TZOFFSETTO:-0400
TZNAME:EDT
DTSTART:20250309T070000
END:DAYLIGHT
BEGIN:STANDARD
TZOFFSETFROM:-0400
TZOFFSETTO:-0500
TZNAME:EST
DTSTART:20251102T060000
END:STANDARD
BEGIN:DAYLIGHT
TZOFFSETFROM:-0500
TZOFFSETTO:-0400
TZNAME:EDT
DTSTART:20260308T070000
END:DAYLIGHT
BEGIN:STANDARD
TZOFFSETFROM:-0400
TZOFFSETTO:-0500
TZNAME:EST
DTSTART:20261101T060000
END:STANDARD
BEGIN:DAYLIGHT
TZOFFSETFROM:-0500
TZOFFSETTO:-0400
TZNAME:EDT
DTSTART:20270314T070000
END:DAYLIGHT
BEGIN:STANDARD
TZOFFSETFROM:-0400
TZOFFSETTO:-0500
TZNAME:EST
DTSTART:20271107T060000
END:STANDARD
END:VTIMEZONE
BEGIN:VEVENT
DTSTART;TZID=America/New_York:20260308T090000
DTEND;TZID=America/New_York:20260308T103000
DTSTAMP:20260422T060850
CREATED:20201227T190000Z
LAST-MODIFIED:20250325T184324Z
UID:10001223-1772960400-1772965800@www.holytrinity.net
SUMMARY:Sunday Worship Service
DESCRIPTION:Worship service with Holy Communion
URL:https://www.holytrinity.net/event/sunday-worship-service/2026-03-08/
LOCATION:Holy Trinity Evangelical Lutheran Church\, 2086 Parkview Ave\, Abington\, PA\, 19001\, United States
CATEGORIES:Worship
END:VEVENT
BEGIN:VEVENT
DTSTART;TZID=America/New_York:20260309T193000
DTEND;TZID=America/New_York:20260309T210000
DTSTAMP:20260422T060850
CREATED:20251117T154329Z
LAST-MODIFIED:20251117T154428Z
UID:10001904-1773084600-1773090000@www.holytrinity.net
SUMMARY:Coram Deo
DESCRIPTION:Holy Trinity’s long-running book club! Meeting once a month on the 2nd Monday of each month in the SS Peter & Andrew Study at 7:30 p.m. \nAll are invited to join – even if it’s “just for one book”. Books we will be reading for the monthly gatherings: \n\nNovember 10 – The Sea by John Banville\nDecember 8 – The Ladies’ Paradise by Emile Zola\nJanuary 12 – Shop Class As Soulcraft: An Inquiry Into the Value of Work by Matthew Crawford\nFebruary 9 – The Good Neighbor: The Life and Work of Fred Rogers by Maxwell King\nMarch 9 – A Sportsman’s Notebook (aka Sportsman’s Sketches) by Ivan Turgenev\nApril 13 – The Crisis of Islam: Holy War and Unholy Terror by Bernard Lewis\nMay 11 – Lucky Jim by Kingsley Amis\nJune 8 – Once Upon a Wardrobe by Patti Callahan\nJuly 13 – All the King’s Men by Robert Penn Warren\nAugust 10 – Oblomov by Ivan Goncharov\nSeptember 14 – Death Comes for the Archbishop by Willa Cather
URL:https://www.holytrinity.net/event/coram-deo/2026-03-09/
LOCATION:Holy Trinity Evangelical Lutheran Church\, 2086 Parkview Ave\, Abington\, PA\, 19001\, United States
CATEGORIES:Fellowship
END:VEVENT
BEGIN:VEVENT
DTSTART;TZID=America/New_York:20260311T183000
DTEND;TZID=America/New_York:20260311T190000
DTSTAMP:20260422T060850
CREATED:20260224T150531Z
LAST-MODIFIED:20260224T152100Z
UID:10002241-1773253800-1773255600@www.holytrinity.net
SUMMARY:Lenten Evening Prayer
DESCRIPTION:Evening service in the sanctuary \nTake Note: Incense will be used at these services.
URL:https://www.holytrinity.net/event/lenten-evening-prayer-2/2026-03-11/
LOCATION:Holy Trinity Evangelical Lutheran Church\, 2086 Parkview Ave\, Abington\, PA\, 19001\, United States
CATEGORIES:Worship
END:VEVENT
BEGIN:VEVENT
DTSTART;TZID=America/New_York:20260311T190000
DTEND;TZID=America/New_York:20260311T193000
DTSTAMP:20260422T060850
CREATED:20260224T151309Z
LAST-MODIFIED:20260224T152003Z
UID:10002236-1773255600-1773257400@www.holytrinity.net
SUMMARY:Lenten Supper
DESCRIPTION:Light supper in Fellowship Hall following service \n 
URL:https://www.holytrinity.net/event/lenten-supper-2/2026-03-11/
LOCATION:Holy Trinity Evangelical Lutheran Church\, 2086 Parkview Ave\, Abington\, PA\, 19001\, United States
CATEGORIES:Worship
END:VEVENT
BEGIN:VEVENT
DTSTART;TZID=America/New_York:20260311T193000
DTEND;TZID=America/New_York:20260311T203000
DTSTAMP:20260422T060850
CREATED:20260224T151504Z
LAST-MODIFIED:20260224T170909Z
UID:10002231-1773257400-1773261000@www.holytrinity.net
SUMMARY:Lenten Evening Bible Study
DESCRIPTION:Bible study in the Saints Peter & Andrew Study \nTopics:  \n\nFebruary 25: What We Ought to Know About Law and Gospel\nMarch 4: Dietrich Bonhoeffer’s poem “Von güten Machten” and the hymn made from it\, “By gracious powers”\nMarch 11: George Herbert’s poem “The Call” and the hymn made from it\, “Come\, my way\, my truth\, my life”\nMarch 18: John Henry Newman’s poem “The Dream of Gerontius” and the hymn made from it\, “Praise to the holiest in the height”\nMarch 25: Real-World Theology lecture #6: “What we ought to know about the third use of the law”
URL:https://www.holytrinity.net/event/lenten-evening-bible-study-2/2026-03-11/
LOCATION:Saints Peter & Andrew Study\, 2086 Parkview Avenue\, Abington\, PA\, 19090\, United States
CATEGORIES:Worship
END:VEVENT
BEGIN:VEVENT
DTSTART;TZID=America/New_York:20260313T170000
DTEND;TZID=America/New_York:20260313T180000
DTSTAMP:20260422T060850
CREATED:20260224T154636Z
LAST-MODIFIED:20260224T154636Z
UID:10002251-1773421200-1773424800@www.holytrinity.net
SUMMARY:Stations of the Cross
DESCRIPTION:Stations of the Cross in the sanctuary
URL:https://www.holytrinity.net/event/stations-of-the-cross-2/2026-03-13/
LOCATION:Holy Trinity Evangelical Lutheran Church\, 2086 Parkview Ave\, Abington\, PA\, 19001\, United States
CATEGORIES:Worship
END:VEVENT
BEGIN:VEVENT
DTSTART;TZID=America/New_York:20260314T170000
DTEND;TZID=America/New_York:20260314T183000
DTSTAMP:20260422T060850
CREATED:20201227T030000Z
LAST-MODIFIED:20250325T190737Z
UID:10001438-1773507600-1773513000@www.holytrinity.net
SUMMARY:Saturday Worship Service
DESCRIPTION:Worship service with Holy Communion.
URL:https://www.holytrinity.net/event/saturday-worship-service/2026-03-14/
LOCATION:Holy Trinity Evangelical Lutheran Church\, 2086 Parkview Ave\, Abington\, PA\, 19001\, United States
CATEGORIES:Worship
END:VEVENT
END:VCALENDAR