BEGIN:VCALENDAR
VERSION:2.0
PRODID:-//Holy Trinity Evangelical Lutheran Church - ECPv6.15.20//NONSGML v1.0//EN
CALSCALE:GREGORIAN
METHOD:PUBLISH
X-ORIGINAL-URL:https://www.holytrinity.net
X-WR-CALDESC:Events for Holy Trinity Evangelical Lutheran Church
REFRESH-INTERVAL;VALUE=DURATION:PT1H
X-Robots-Tag:noindex
X-PUBLISHED-TTL:PT1H
BEGIN:VTIMEZONE
TZID:America/New_York
BEGIN:DAYLIGHT
TZOFFSETFROM:-0500
TZOFFSETTO:-0400
TZNAME:EDT
DTSTART:20250309T070000
END:DAYLIGHT
BEGIN:STANDARD
TZOFFSETFROM:-0400
TZOFFSETTO:-0500
TZNAME:EST
DTSTART:20251102T060000
END:STANDARD
BEGIN:DAYLIGHT
TZOFFSETFROM:-0500
TZOFFSETTO:-0400
TZNAME:EDT
DTSTART:20260308T070000
END:DAYLIGHT
BEGIN:STANDARD
TZOFFSETFROM:-0400
TZOFFSETTO:-0500
TZNAME:EST
DTSTART:20261101T060000
END:STANDARD
BEGIN:DAYLIGHT
TZOFFSETFROM:-0500
TZOFFSETTO:-0400
TZNAME:EDT
DTSTART:20270314T070000
END:DAYLIGHT
BEGIN:STANDARD
TZOFFSETFROM:-0400
TZOFFSETTO:-0500
TZNAME:EST
DTSTART:20271107T060000
END:STANDARD
END:VTIMEZONE
BEGIN:VEVENT
DTSTART;TZID=America/New_York:20260917T100000
DTEND;TZID=America/New_York:20260917T120000
DTSTAMP:20260422T064106
CREATED:20260328T195255Z
LAST-MODIFIED:20260328T195255Z
UID:10002403-1789639200-1789646400@www.holytrinity.net
SUMMARY:Bread of Heaven
DESCRIPTION:Bread of Heaven is Holy Trinity’s food pantry serving residents of Montgomery County. The Pantry provides nonperishable foods and basic toiletries (Toothbrushes & paste\, paper towels\, toilet paper\, soap) to those who are experiencing food insecurity. On Mother’s Day weekend\, the church takes a special collection to provide baby food and some basic infant supplies. This Pantry serves both individuals and families. \nSigns will direct you to the entrance
URL:https://www.holytrinity.net/event/bread-of-heaven/2026-09-17/
LOCATION:Holy Trinity Evangelical Lutheran Church\, 2086 Parkview Ave\, Abington\, PA\, 19001\, United States
CATEGORIES:Outreach
END:VEVENT
BEGIN:VEVENT
DTSTART;TZID=America/New_York:20260919T170000
DTEND;TZID=America/New_York:20260919T183000
DTSTAMP:20260422T064106
CREATED:20201227T030000Z
LAST-MODIFIED:20250325T190737Z
UID:10001465-1789837200-1789842600@www.holytrinity.net
SUMMARY:Saturday Worship Service
DESCRIPTION:Worship service with Holy Communion.
URL:https://www.holytrinity.net/event/saturday-worship-service/2026-09-19/
LOCATION:Holy Trinity Evangelical Lutheran Church\, 2086 Parkview Ave\, Abington\, PA\, 19001\, United States
CATEGORIES:Worship
END:VEVENT
BEGIN:VEVENT
DTSTART;TZID=America/New_York:20260920T090000
DTEND;TZID=America/New_York:20260920T103000
DTSTAMP:20260422T064106
CREATED:20201227T190000Z
LAST-MODIFIED:20250325T184324Z
UID:10001251-1789894800-1789900200@www.holytrinity.net
SUMMARY:Sunday Worship Service
DESCRIPTION:Worship service with Holy Communion
URL:https://www.holytrinity.net/event/sunday-worship-service/2026-09-20/
LOCATION:Holy Trinity Evangelical Lutheran Church\, 2086 Parkview Ave\, Abington\, PA\, 19001\, United States
CATEGORIES:Worship
END:VEVENT
BEGIN:VEVENT
DTSTART;TZID=America/New_York:20260924T100000
DTEND;TZID=America/New_York:20260924T120000
DTSTAMP:20260422T064106
CREATED:20260328T195255Z
LAST-MODIFIED:20260328T195255Z
UID:10002404-1790244000-1790251200@www.holytrinity.net
SUMMARY:Bread of Heaven
DESCRIPTION:Bread of Heaven is Holy Trinity’s food pantry serving residents of Montgomery County. The Pantry provides nonperishable foods and basic toiletries (Toothbrushes & paste\, paper towels\, toilet paper\, soap) to those who are experiencing food insecurity. On Mother’s Day weekend\, the church takes a special collection to provide baby food and some basic infant supplies. This Pantry serves both individuals and families. \nSigns will direct you to the entrance
URL:https://www.holytrinity.net/event/bread-of-heaven/2026-09-24/
LOCATION:Holy Trinity Evangelical Lutheran Church\, 2086 Parkview Ave\, Abington\, PA\, 19001\, United States
CATEGORIES:Outreach
END:VEVENT
BEGIN:VEVENT
DTSTART;TZID=America/New_York:20260926T170000
DTEND;TZID=America/New_York:20260926T183000
DTSTAMP:20260422T064106
CREATED:20201227T030000Z
LAST-MODIFIED:20250325T190737Z
UID:10001466-1790442000-1790447400@www.holytrinity.net
SUMMARY:Saturday Worship Service
DESCRIPTION:Worship service with Holy Communion.
URL:https://www.holytrinity.net/event/saturday-worship-service/2026-09-26/
LOCATION:Holy Trinity Evangelical Lutheran Church\, 2086 Parkview Ave\, Abington\, PA\, 19001\, United States
CATEGORIES:Worship
END:VEVENT
BEGIN:VEVENT
DTSTART;TZID=America/New_York:20260927T090000
DTEND;TZID=America/New_York:20260927T103000
DTSTAMP:20260422T064106
CREATED:20201227T190000Z
LAST-MODIFIED:20250325T184324Z
UID:10001252-1790499600-1790505000@www.holytrinity.net
SUMMARY:Sunday Worship Service
DESCRIPTION:Worship service with Holy Communion
URL:https://www.holytrinity.net/event/sunday-worship-service/2026-09-27/
LOCATION:Holy Trinity Evangelical Lutheran Church\, 2086 Parkview Ave\, Abington\, PA\, 19001\, United States
CATEGORIES:Worship
END:VEVENT
BEGIN:VEVENT
DTSTART;TZID=America/New_York:20261001T100000
DTEND;TZID=America/New_York:20261001T120000
DTSTAMP:20260422T064106
CREATED:20260328T195255Z
LAST-MODIFIED:20260328T195255Z
UID:10002405-1790848800-1790856000@www.holytrinity.net
SUMMARY:Bread of Heaven
DESCRIPTION:Bread of Heaven is Holy Trinity’s food pantry serving residents of Montgomery County. The Pantry provides nonperishable foods and basic toiletries (Toothbrushes & paste\, paper towels\, toilet paper\, soap) to those who are experiencing food insecurity. On Mother’s Day weekend\, the church takes a special collection to provide baby food and some basic infant supplies. This Pantry serves both individuals and families. \nSigns will direct you to the entrance
URL:https://www.holytrinity.net/event/bread-of-heaven/2026-10-01/
LOCATION:Holy Trinity Evangelical Lutheran Church\, 2086 Parkview Ave\, Abington\, PA\, 19001\, United States
CATEGORIES:Outreach
END:VEVENT
BEGIN:VEVENT
DTSTART;TZID=America/New_York:20261003T170000
DTEND;TZID=America/New_York:20261003T183000
DTSTAMP:20260422T064106
CREATED:20201227T030000Z
LAST-MODIFIED:20250325T190737Z
UID:10001467-1791046800-1791052200@www.holytrinity.net
SUMMARY:Saturday Worship Service
DESCRIPTION:Worship service with Holy Communion.
URL:https://www.holytrinity.net/event/saturday-worship-service/2026-10-03/
LOCATION:Holy Trinity Evangelical Lutheran Church\, 2086 Parkview Ave\, Abington\, PA\, 19001\, United States
CATEGORIES:Worship
END:VEVENT
BEGIN:VEVENT
DTSTART;TZID=America/New_York:20261004T090000
DTEND;TZID=America/New_York:20261004T103000
DTSTAMP:20260422T064106
CREATED:20201227T190000Z
LAST-MODIFIED:20250325T184324Z
UID:10001253-1791104400-1791109800@www.holytrinity.net
SUMMARY:Sunday Worship Service
DESCRIPTION:Worship service with Holy Communion
URL:https://www.holytrinity.net/event/sunday-worship-service/2026-10-04/
LOCATION:Holy Trinity Evangelical Lutheran Church\, 2086 Parkview Ave\, Abington\, PA\, 19001\, United States
CATEGORIES:Worship
END:VEVENT
BEGIN:VEVENT
DTSTART;TZID=America/New_York:20261008T100000
DTEND;TZID=America/New_York:20261008T120000
DTSTAMP:20260422T064106
CREATED:20260328T195255Z
LAST-MODIFIED:20260328T195255Z
UID:10002406-1791453600-1791460800@www.holytrinity.net
SUMMARY:Bread of Heaven
DESCRIPTION:Bread of Heaven is Holy Trinity’s food pantry serving residents of Montgomery County. The Pantry provides nonperishable foods and basic toiletries (Toothbrushes & paste\, paper towels\, toilet paper\, soap) to those who are experiencing food insecurity. On Mother’s Day weekend\, the church takes a special collection to provide baby food and some basic infant supplies. This Pantry serves both individuals and families. \nSigns will direct you to the entrance
URL:https://www.holytrinity.net/event/bread-of-heaven/2026-10-08/
LOCATION:Holy Trinity Evangelical Lutheran Church\, 2086 Parkview Ave\, Abington\, PA\, 19001\, United States
CATEGORIES:Outreach
END:VEVENT
BEGIN:VEVENT
DTSTART;TZID=America/New_York:20261010T170000
DTEND;TZID=America/New_York:20261010T183000
DTSTAMP:20260422T064106
CREATED:20201227T030000Z
LAST-MODIFIED:20250325T190737Z
UID:10001468-1791651600-1791657000@www.holytrinity.net
SUMMARY:Saturday Worship Service
DESCRIPTION:Worship service with Holy Communion.
URL:https://www.holytrinity.net/event/saturday-worship-service/2026-10-10/
LOCATION:Holy Trinity Evangelical Lutheran Church\, 2086 Parkview Ave\, Abington\, PA\, 19001\, United States
CATEGORIES:Worship
END:VEVENT
BEGIN:VEVENT
DTSTART;TZID=America/New_York:20261011T090000
DTEND;TZID=America/New_York:20261011T103000
DTSTAMP:20260422T064106
CREATED:20201227T190000Z
LAST-MODIFIED:20250325T184324Z
UID:10001254-1791709200-1791714600@www.holytrinity.net
SUMMARY:Sunday Worship Service
DESCRIPTION:Worship service with Holy Communion
URL:https://www.holytrinity.net/event/sunday-worship-service/2026-10-11/
LOCATION:Holy Trinity Evangelical Lutheran Church\, 2086 Parkview Ave\, Abington\, PA\, 19001\, United States
CATEGORIES:Worship
END:VEVENT
BEGIN:VEVENT
DTSTART;TZID=America/New_York:20261015T100000
DTEND;TZID=America/New_York:20261015T120000
DTSTAMP:20260422T064106
CREATED:20260328T195255Z
LAST-MODIFIED:20260328T195255Z
UID:10002407-1792058400-1792065600@www.holytrinity.net
SUMMARY:Bread of Heaven
DESCRIPTION:Bread of Heaven is Holy Trinity’s food pantry serving residents of Montgomery County. The Pantry provides nonperishable foods and basic toiletries (Toothbrushes & paste\, paper towels\, toilet paper\, soap) to those who are experiencing food insecurity. On Mother’s Day weekend\, the church takes a special collection to provide baby food and some basic infant supplies. This Pantry serves both individuals and families. \nSigns will direct you to the entrance
URL:https://www.holytrinity.net/event/bread-of-heaven/2026-10-15/
LOCATION:Holy Trinity Evangelical Lutheran Church\, 2086 Parkview Ave\, Abington\, PA\, 19001\, United States
CATEGORIES:Outreach
END:VEVENT
BEGIN:VEVENT
DTSTART;TZID=America/New_York:20261017T170000
DTEND;TZID=America/New_York:20261017T183000
DTSTAMP:20260422T064106
CREATED:20201227T030000Z
LAST-MODIFIED:20250325T190737Z
UID:10001469-1792256400-1792261800@www.holytrinity.net
SUMMARY:Saturday Worship Service
DESCRIPTION:Worship service with Holy Communion.
URL:https://www.holytrinity.net/event/saturday-worship-service/2026-10-17/
LOCATION:Holy Trinity Evangelical Lutheran Church\, 2086 Parkview Ave\, Abington\, PA\, 19001\, United States
CATEGORIES:Worship
END:VEVENT
BEGIN:VEVENT
DTSTART;TZID=America/New_York:20261018T090000
DTEND;TZID=America/New_York:20261018T103000
DTSTAMP:20260422T064106
CREATED:20201227T190000Z
LAST-MODIFIED:20250325T184324Z
UID:10001255-1792314000-1792319400@www.holytrinity.net
SUMMARY:Sunday Worship Service
DESCRIPTION:Worship service with Holy Communion
URL:https://www.holytrinity.net/event/sunday-worship-service/2026-10-18/
LOCATION:Holy Trinity Evangelical Lutheran Church\, 2086 Parkview Ave\, Abington\, PA\, 19001\, United States
CATEGORIES:Worship
END:VEVENT
BEGIN:VEVENT
DTSTART;TZID=America/New_York:20261022T100000
DTEND;TZID=America/New_York:20261022T120000
DTSTAMP:20260422T064106
CREATED:20260328T195255Z
LAST-MODIFIED:20260328T195255Z
UID:10002408-1792663200-1792670400@www.holytrinity.net
SUMMARY:Bread of Heaven
DESCRIPTION:Bread of Heaven is Holy Trinity’s food pantry serving residents of Montgomery County. The Pantry provides nonperishable foods and basic toiletries (Toothbrushes & paste\, paper towels\, toilet paper\, soap) to those who are experiencing food insecurity. On Mother’s Day weekend\, the church takes a special collection to provide baby food and some basic infant supplies. This Pantry serves both individuals and families. \nSigns will direct you to the entrance
URL:https://www.holytrinity.net/event/bread-of-heaven/2026-10-22/
LOCATION:Holy Trinity Evangelical Lutheran Church\, 2086 Parkview Ave\, Abington\, PA\, 19001\, United States
CATEGORIES:Outreach
END:VEVENT
BEGIN:VEVENT
DTSTART;TZID=America/New_York:20261024T170000
DTEND;TZID=America/New_York:20261024T183000
DTSTAMP:20260422T064106
CREATED:20201227T030000Z
LAST-MODIFIED:20250325T190737Z
UID:10001470-1792861200-1792866600@www.holytrinity.net
SUMMARY:Saturday Worship Service
DESCRIPTION:Worship service with Holy Communion.
URL:https://www.holytrinity.net/event/saturday-worship-service/2026-10-24/
LOCATION:Holy Trinity Evangelical Lutheran Church\, 2086 Parkview Ave\, Abington\, PA\, 19001\, United States
CATEGORIES:Worship
END:VEVENT
BEGIN:VEVENT
DTSTART;TZID=America/New_York:20261025T090000
DTEND;TZID=America/New_York:20261025T103000
DTSTAMP:20260422T064106
CREATED:20201227T190000Z
LAST-MODIFIED:20250325T184324Z
UID:10001256-1792918800-1792924200@www.holytrinity.net
SUMMARY:Sunday Worship Service
DESCRIPTION:Worship service with Holy Communion
URL:https://www.holytrinity.net/event/sunday-worship-service/2026-10-25/
LOCATION:Holy Trinity Evangelical Lutheran Church\, 2086 Parkview Ave\, Abington\, PA\, 19001\, United States
CATEGORIES:Worship
END:VEVENT
BEGIN:VEVENT
DTSTART;TZID=America/New_York:20261029T100000
DTEND;TZID=America/New_York:20261029T120000
DTSTAMP:20260422T064106
CREATED:20260328T195255Z
LAST-MODIFIED:20260328T195255Z
UID:10002409-1793268000-1793275200@www.holytrinity.net
SUMMARY:Bread of Heaven
DESCRIPTION:Bread of Heaven is Holy Trinity’s food pantry serving residents of Montgomery County. The Pantry provides nonperishable foods and basic toiletries (Toothbrushes & paste\, paper towels\, toilet paper\, soap) to those who are experiencing food insecurity. On Mother’s Day weekend\, the church takes a special collection to provide baby food and some basic infant supplies. This Pantry serves both individuals and families. \nSigns will direct you to the entrance
URL:https://www.holytrinity.net/event/bread-of-heaven/2026-10-29/
LOCATION:Holy Trinity Evangelical Lutheran Church\, 2086 Parkview Ave\, Abington\, PA\, 19001\, United States
CATEGORIES:Outreach
END:VEVENT
BEGIN:VEVENT
DTSTART;TZID=America/New_York:20261031T170000
DTEND;TZID=America/New_York:20261031T183000
DTSTAMP:20260422T064106
CREATED:20201227T030000Z
LAST-MODIFIED:20250325T190737Z
UID:10001471-1793466000-1793471400@www.holytrinity.net
SUMMARY:Saturday Worship Service
DESCRIPTION:Worship service with Holy Communion.
URL:https://www.holytrinity.net/event/saturday-worship-service/2026-10-31/
LOCATION:Holy Trinity Evangelical Lutheran Church\, 2086 Parkview Ave\, Abington\, PA\, 19001\, United States
CATEGORIES:Worship
END:VEVENT
BEGIN:VEVENT
DTSTART;TZID=America/New_York:20261101T090000
DTEND;TZID=America/New_York:20261101T103000
DTSTAMP:20260422T064106
CREATED:20201227T190000Z
LAST-MODIFIED:20250325T184324Z
UID:10001257-1793523600-1793529000@www.holytrinity.net
SUMMARY:Sunday Worship Service
DESCRIPTION:Worship service with Holy Communion
URL:https://www.holytrinity.net/event/sunday-worship-service/2026-11-01/
LOCATION:Holy Trinity Evangelical Lutheran Church\, 2086 Parkview Ave\, Abington\, PA\, 19001\, United States
CATEGORIES:Worship
END:VEVENT
BEGIN:VEVENT
DTSTART;TZID=America/New_York:20261105T100000
DTEND;TZID=America/New_York:20261105T120000
DTSTAMP:20260422T064106
CREATED:20260328T195255Z
LAST-MODIFIED:20260328T195255Z
UID:10002410-1793872800-1793880000@www.holytrinity.net
SUMMARY:Bread of Heaven
DESCRIPTION:Bread of Heaven is Holy Trinity’s food pantry serving residents of Montgomery County. The Pantry provides nonperishable foods and basic toiletries (Toothbrushes & paste\, paper towels\, toilet paper\, soap) to those who are experiencing food insecurity. On Mother’s Day weekend\, the church takes a special collection to provide baby food and some basic infant supplies. This Pantry serves both individuals and families. \nSigns will direct you to the entrance
URL:https://www.holytrinity.net/event/bread-of-heaven/2026-11-05/
LOCATION:Holy Trinity Evangelical Lutheran Church\, 2086 Parkview Ave\, Abington\, PA\, 19001\, United States
CATEGORIES:Outreach
END:VEVENT
BEGIN:VEVENT
DTSTART;TZID=America/New_York:20261107T170000
DTEND;TZID=America/New_York:20261107T183000
DTSTAMP:20260422T064106
CREATED:20201227T030000Z
LAST-MODIFIED:20250325T190737Z
UID:10001472-1794070800-1794076200@www.holytrinity.net
SUMMARY:Saturday Worship Service
DESCRIPTION:Worship service with Holy Communion.
URL:https://www.holytrinity.net/event/saturday-worship-service/2026-11-07/
LOCATION:Holy Trinity Evangelical Lutheran Church\, 2086 Parkview Ave\, Abington\, PA\, 19001\, United States
CATEGORIES:Worship
END:VEVENT
BEGIN:VEVENT
DTSTART;TZID=America/New_York:20261108T090000
DTEND;TZID=America/New_York:20261108T103000
DTSTAMP:20260422T064106
CREATED:20201227T190000Z
LAST-MODIFIED:20250325T184324Z
UID:10001258-1794128400-1794133800@www.holytrinity.net
SUMMARY:Sunday Worship Service
DESCRIPTION:Worship service with Holy Communion
URL:https://www.holytrinity.net/event/sunday-worship-service/2026-11-08/
LOCATION:Holy Trinity Evangelical Lutheran Church\, 2086 Parkview Ave\, Abington\, PA\, 19001\, United States
CATEGORIES:Worship
END:VEVENT
BEGIN:VEVENT
DTSTART;TZID=America/New_York:20261112T100000
DTEND;TZID=America/New_York:20261112T120000
DTSTAMP:20260422T064106
CREATED:20260328T195255Z
LAST-MODIFIED:20260328T195255Z
UID:10002411-1794477600-1794484800@www.holytrinity.net
SUMMARY:Bread of Heaven
DESCRIPTION:Bread of Heaven is Holy Trinity’s food pantry serving residents of Montgomery County. The Pantry provides nonperishable foods and basic toiletries (Toothbrushes & paste\, paper towels\, toilet paper\, soap) to those who are experiencing food insecurity. On Mother’s Day weekend\, the church takes a special collection to provide baby food and some basic infant supplies. This Pantry serves both individuals and families. \nSigns will direct you to the entrance
URL:https://www.holytrinity.net/event/bread-of-heaven/2026-11-12/
LOCATION:Holy Trinity Evangelical Lutheran Church\, 2086 Parkview Ave\, Abington\, PA\, 19001\, United States
CATEGORIES:Outreach
END:VEVENT
BEGIN:VEVENT
DTSTART;TZID=America/New_York:20261114T170000
DTEND;TZID=America/New_York:20261114T183000
DTSTAMP:20260422T064106
CREATED:20201227T030000Z
LAST-MODIFIED:20250325T190737Z
UID:10001473-1794675600-1794681000@www.holytrinity.net
SUMMARY:Saturday Worship Service
DESCRIPTION:Worship service with Holy Communion.
URL:https://www.holytrinity.net/event/saturday-worship-service/2026-11-14/
LOCATION:Holy Trinity Evangelical Lutheran Church\, 2086 Parkview Ave\, Abington\, PA\, 19001\, United States
CATEGORIES:Worship
END:VEVENT
BEGIN:VEVENT
DTSTART;TZID=America/New_York:20261115T090000
DTEND;TZID=America/New_York:20261115T103000
DTSTAMP:20260422T064106
CREATED:20201227T190000Z
LAST-MODIFIED:20250325T184324Z
UID:10001259-1794733200-1794738600@www.holytrinity.net
SUMMARY:Sunday Worship Service
DESCRIPTION:Worship service with Holy Communion
URL:https://www.holytrinity.net/event/sunday-worship-service/2026-11-15/
LOCATION:Holy Trinity Evangelical Lutheran Church\, 2086 Parkview Ave\, Abington\, PA\, 19001\, United States
CATEGORIES:Worship
END:VEVENT
BEGIN:VEVENT
DTSTART;TZID=America/New_York:20261119T100000
DTEND;TZID=America/New_York:20261119T120000
DTSTAMP:20260422T064106
CREATED:20260328T195255Z
LAST-MODIFIED:20260328T195255Z
UID:10002412-1795082400-1795089600@www.holytrinity.net
SUMMARY:Bread of Heaven
DESCRIPTION:Bread of Heaven is Holy Trinity’s food pantry serving residents of Montgomery County. The Pantry provides nonperishable foods and basic toiletries (Toothbrushes & paste\, paper towels\, toilet paper\, soap) to those who are experiencing food insecurity. On Mother’s Day weekend\, the church takes a special collection to provide baby food and some basic infant supplies. This Pantry serves both individuals and families. \nSigns will direct you to the entrance
URL:https://www.holytrinity.net/event/bread-of-heaven/2026-11-19/
LOCATION:Holy Trinity Evangelical Lutheran Church\, 2086 Parkview Ave\, Abington\, PA\, 19001\, United States
CATEGORIES:Outreach
END:VEVENT
BEGIN:VEVENT
DTSTART;TZID=America/New_York:20261121T170000
DTEND;TZID=America/New_York:20261121T183000
DTSTAMP:20260422T064106
CREATED:20201227T030000Z
LAST-MODIFIED:20250325T190737Z
UID:10001474-1795280400-1795285800@www.holytrinity.net
SUMMARY:Saturday Worship Service
DESCRIPTION:Worship service with Holy Communion.
URL:https://www.holytrinity.net/event/saturday-worship-service/2026-11-21/
LOCATION:Holy Trinity Evangelical Lutheran Church\, 2086 Parkview Ave\, Abington\, PA\, 19001\, United States
CATEGORIES:Worship
END:VEVENT
BEGIN:VEVENT
DTSTART;TZID=America/New_York:20261122T090000
DTEND;TZID=America/New_York:20261122T103000
DTSTAMP:20260422T064106
CREATED:20201227T190000Z
LAST-MODIFIED:20250325T184324Z
UID:10001260-1795338000-1795343400@www.holytrinity.net
SUMMARY:Sunday Worship Service
DESCRIPTION:Worship service with Holy Communion
URL:https://www.holytrinity.net/event/sunday-worship-service/2026-11-22/
LOCATION:Holy Trinity Evangelical Lutheran Church\, 2086 Parkview Ave\, Abington\, PA\, 19001\, United States
CATEGORIES:Worship
END:VEVENT
END:VCALENDAR