BEGIN:VCALENDAR
VERSION:2.0
PRODID:-//Holy Trinity Evangelical Lutheran Church - ECPv6.15.20//NONSGML v1.0//EN
CALSCALE:GREGORIAN
METHOD:PUBLISH
X-ORIGINAL-URL:https://www.holytrinity.net
X-WR-CALDESC:Events for Holy Trinity Evangelical Lutheran Church
REFRESH-INTERVAL;VALUE=DURATION:PT1H
X-Robots-Tag:noindex
X-PUBLISHED-TTL:PT1H
BEGIN:VTIMEZONE
TZID:America/New_York
BEGIN:DAYLIGHT
TZOFFSETFROM:-0500
TZOFFSETTO:-0400
TZNAME:EDT
DTSTART:20250309T070000
END:DAYLIGHT
BEGIN:STANDARD
TZOFFSETFROM:-0400
TZOFFSETTO:-0500
TZNAME:EST
DTSTART:20251102T060000
END:STANDARD
BEGIN:DAYLIGHT
TZOFFSETFROM:-0500
TZOFFSETTO:-0400
TZNAME:EDT
DTSTART:20260308T070000
END:DAYLIGHT
BEGIN:STANDARD
TZOFFSETFROM:-0400
TZOFFSETTO:-0500
TZNAME:EST
DTSTART:20261101T060000
END:STANDARD
BEGIN:DAYLIGHT
TZOFFSETFROM:-0500
TZOFFSETTO:-0400
TZNAME:EDT
DTSTART:20270314T070000
END:DAYLIGHT
BEGIN:STANDARD
TZOFFSETFROM:-0400
TZOFFSETTO:-0500
TZNAME:EST
DTSTART:20271107T060000
END:STANDARD
END:VTIMEZONE
BEGIN:VEVENT
DTSTART;TZID=America/New_York:20260705T090000
DTEND;TZID=America/New_York:20260705T103000
DTSTAMP:20260422T044909
CREATED:20201227T190000Z
LAST-MODIFIED:20250325T184324Z
UID:10001240-1783242000-1783247400@www.holytrinity.net
SUMMARY:Sunday Worship Service
DESCRIPTION:Worship service with Holy Communion
URL:https://www.holytrinity.net/event/sunday-worship-service/2026-07-05/
LOCATION:Holy Trinity Evangelical Lutheran Church\, 2086 Parkview Ave\, Abington\, PA\, 19001\, United States
CATEGORIES:Worship
END:VEVENT
BEGIN:VEVENT
DTSTART;TZID=America/New_York:20260711T170000
DTEND;TZID=America/New_York:20260711T183000
DTSTAMP:20260422T044909
CREATED:20201227T030000Z
LAST-MODIFIED:20250325T190737Z
UID:10001455-1783789200-1783794600@www.holytrinity.net
SUMMARY:Saturday Worship Service
DESCRIPTION:Worship service with Holy Communion.
URL:https://www.holytrinity.net/event/saturday-worship-service/2026-07-11/
LOCATION:Holy Trinity Evangelical Lutheran Church\, 2086 Parkview Ave\, Abington\, PA\, 19001\, United States
CATEGORIES:Worship
END:VEVENT
BEGIN:VEVENT
DTSTART;TZID=America/New_York:20260712T090000
DTEND;TZID=America/New_York:20260712T103000
DTSTAMP:20260422T044909
CREATED:20201227T190000Z
LAST-MODIFIED:20250325T184324Z
UID:10001241-1783846800-1783852200@www.holytrinity.net
SUMMARY:Sunday Worship Service
DESCRIPTION:Worship service with Holy Communion
URL:https://www.holytrinity.net/event/sunday-worship-service/2026-07-12/
LOCATION:Holy Trinity Evangelical Lutheran Church\, 2086 Parkview Ave\, Abington\, PA\, 19001\, United States
CATEGORIES:Worship
END:VEVENT
BEGIN:VEVENT
DTSTART;TZID=America/New_York:20260718T170000
DTEND;TZID=America/New_York:20260718T183000
DTSTAMP:20260422T044909
CREATED:20201227T030000Z
LAST-MODIFIED:20250325T190737Z
UID:10001456-1784394000-1784399400@www.holytrinity.net
SUMMARY:Saturday Worship Service
DESCRIPTION:Worship service with Holy Communion.
URL:https://www.holytrinity.net/event/saturday-worship-service/2026-07-18/
LOCATION:Holy Trinity Evangelical Lutheran Church\, 2086 Parkview Ave\, Abington\, PA\, 19001\, United States
CATEGORIES:Worship
END:VEVENT
BEGIN:VEVENT
DTSTART;TZID=America/New_York:20260719T090000
DTEND;TZID=America/New_York:20260719T103000
DTSTAMP:20260422T044909
CREATED:20201227T190000Z
LAST-MODIFIED:20250325T184324Z
UID:10001242-1784451600-1784457000@www.holytrinity.net
SUMMARY:Sunday Worship Service
DESCRIPTION:Worship service with Holy Communion
URL:https://www.holytrinity.net/event/sunday-worship-service/2026-07-19/
LOCATION:Holy Trinity Evangelical Lutheran Church\, 2086 Parkview Ave\, Abington\, PA\, 19001\, United States
CATEGORIES:Worship
END:VEVENT
BEGIN:VEVENT
DTSTART;TZID=America/New_York:20260725T170000
DTEND;TZID=America/New_York:20260725T183000
DTSTAMP:20260422T044909
CREATED:20201227T030000Z
LAST-MODIFIED:20250325T190737Z
UID:10001457-1784998800-1785004200@www.holytrinity.net
SUMMARY:Saturday Worship Service
DESCRIPTION:Worship service with Holy Communion.
URL:https://www.holytrinity.net/event/saturday-worship-service/2026-07-25/
LOCATION:Holy Trinity Evangelical Lutheran Church\, 2086 Parkview Ave\, Abington\, PA\, 19001\, United States
CATEGORIES:Worship
END:VEVENT
BEGIN:VEVENT
DTSTART;TZID=America/New_York:20260726T090000
DTEND;TZID=America/New_York:20260726T103000
DTSTAMP:20260422T044909
CREATED:20201227T190000Z
LAST-MODIFIED:20250325T184324Z
UID:10001243-1785056400-1785061800@www.holytrinity.net
SUMMARY:Sunday Worship Service
DESCRIPTION:Worship service with Holy Communion
URL:https://www.holytrinity.net/event/sunday-worship-service/2026-07-26/
LOCATION:Holy Trinity Evangelical Lutheran Church\, 2086 Parkview Ave\, Abington\, PA\, 19001\, United States
CATEGORIES:Worship
END:VEVENT
BEGIN:VEVENT
DTSTART;TZID=America/New_York:20260801T170000
DTEND;TZID=America/New_York:20260801T183000
DTSTAMP:20260422T044909
CREATED:20201227T030000Z
LAST-MODIFIED:20250325T190737Z
UID:10001458-1785603600-1785609000@www.holytrinity.net
SUMMARY:Saturday Worship Service
DESCRIPTION:Worship service with Holy Communion.
URL:https://www.holytrinity.net/event/saturday-worship-service/2026-08-01/
LOCATION:Holy Trinity Evangelical Lutheran Church\, 2086 Parkview Ave\, Abington\, PA\, 19001\, United States
CATEGORIES:Worship
END:VEVENT
BEGIN:VEVENT
DTSTART;TZID=America/New_York:20260802T090000
DTEND;TZID=America/New_York:20260802T103000
DTSTAMP:20260422T044909
CREATED:20201227T190000Z
LAST-MODIFIED:20250325T184324Z
UID:10001244-1785661200-1785666600@www.holytrinity.net
SUMMARY:Sunday Worship Service
DESCRIPTION:Worship service with Holy Communion
URL:https://www.holytrinity.net/event/sunday-worship-service/2026-08-02/
LOCATION:Holy Trinity Evangelical Lutheran Church\, 2086 Parkview Ave\, Abington\, PA\, 19001\, United States
CATEGORIES:Worship
END:VEVENT
BEGIN:VEVENT
DTSTART;TZID=America/New_York:20260808T170000
DTEND;TZID=America/New_York:20260808T183000
DTSTAMP:20260422T044909
CREATED:20201227T030000Z
LAST-MODIFIED:20250325T190737Z
UID:10001459-1786208400-1786213800@www.holytrinity.net
SUMMARY:Saturday Worship Service
DESCRIPTION:Worship service with Holy Communion.
URL:https://www.holytrinity.net/event/saturday-worship-service/2026-08-08/
LOCATION:Holy Trinity Evangelical Lutheran Church\, 2086 Parkview Ave\, Abington\, PA\, 19001\, United States
CATEGORIES:Worship
END:VEVENT
BEGIN:VEVENT
DTSTART;TZID=America/New_York:20260809T090000
DTEND;TZID=America/New_York:20260809T103000
DTSTAMP:20260422T044910
CREATED:20201227T190000Z
LAST-MODIFIED:20250325T184324Z
UID:10001245-1786266000-1786271400@www.holytrinity.net
SUMMARY:Sunday Worship Service
DESCRIPTION:Worship service with Holy Communion
URL:https://www.holytrinity.net/event/sunday-worship-service/2026-08-09/
LOCATION:Holy Trinity Evangelical Lutheran Church\, 2086 Parkview Ave\, Abington\, PA\, 19001\, United States
CATEGORIES:Worship
END:VEVENT
BEGIN:VEVENT
DTSTART;TZID=America/New_York:20260815T170000
DTEND;TZID=America/New_York:20260815T183000
DTSTAMP:20260422T044910
CREATED:20201227T030000Z
LAST-MODIFIED:20250325T190737Z
UID:10001460-1786813200-1786818600@www.holytrinity.net
SUMMARY:Saturday Worship Service
DESCRIPTION:Worship service with Holy Communion.
URL:https://www.holytrinity.net/event/saturday-worship-service/2026-08-15/
LOCATION:Holy Trinity Evangelical Lutheran Church\, 2086 Parkview Ave\, Abington\, PA\, 19001\, United States
CATEGORIES:Worship
END:VEVENT
BEGIN:VEVENT
DTSTART;TZID=America/New_York:20260816T090000
DTEND;TZID=America/New_York:20260816T103000
DTSTAMP:20260422T044910
CREATED:20201227T190000Z
LAST-MODIFIED:20250325T184324Z
UID:10001246-1786870800-1786876200@www.holytrinity.net
SUMMARY:Sunday Worship Service
DESCRIPTION:Worship service with Holy Communion
URL:https://www.holytrinity.net/event/sunday-worship-service/2026-08-16/
LOCATION:Holy Trinity Evangelical Lutheran Church\, 2086 Parkview Ave\, Abington\, PA\, 19001\, United States
CATEGORIES:Worship
END:VEVENT
BEGIN:VEVENT
DTSTART;TZID=America/New_York:20260822T170000
DTEND;TZID=America/New_York:20260822T183000
DTSTAMP:20260422T044910
CREATED:20201227T030000Z
LAST-MODIFIED:20250325T190737Z
UID:10001461-1787418000-1787423400@www.holytrinity.net
SUMMARY:Saturday Worship Service
DESCRIPTION:Worship service with Holy Communion.
URL:https://www.holytrinity.net/event/saturday-worship-service/2026-08-22/
LOCATION:Holy Trinity Evangelical Lutheran Church\, 2086 Parkview Ave\, Abington\, PA\, 19001\, United States
CATEGORIES:Worship
END:VEVENT
BEGIN:VEVENT
DTSTART;TZID=America/New_York:20260823T090000
DTEND;TZID=America/New_York:20260823T103000
DTSTAMP:20260422T044910
CREATED:20201227T190000Z
LAST-MODIFIED:20250325T184324Z
UID:10001247-1787475600-1787481000@www.holytrinity.net
SUMMARY:Sunday Worship Service
DESCRIPTION:Worship service with Holy Communion
URL:https://www.holytrinity.net/event/sunday-worship-service/2026-08-23/
LOCATION:Holy Trinity Evangelical Lutheran Church\, 2086 Parkview Ave\, Abington\, PA\, 19001\, United States
CATEGORIES:Worship
END:VEVENT
BEGIN:VEVENT
DTSTART;TZID=America/New_York:20260829T170000
DTEND;TZID=America/New_York:20260829T183000
DTSTAMP:20260422T044910
CREATED:20201227T030000Z
LAST-MODIFIED:20250325T190737Z
UID:10001462-1788022800-1788028200@www.holytrinity.net
SUMMARY:Saturday Worship Service
DESCRIPTION:Worship service with Holy Communion.
URL:https://www.holytrinity.net/event/saturday-worship-service/2026-08-29/
LOCATION:Holy Trinity Evangelical Lutheran Church\, 2086 Parkview Ave\, Abington\, PA\, 19001\, United States
CATEGORIES:Worship
END:VEVENT
BEGIN:VEVENT
DTSTART;TZID=America/New_York:20260830T090000
DTEND;TZID=America/New_York:20260830T103000
DTSTAMP:20260422T044910
CREATED:20201227T190000Z
LAST-MODIFIED:20250325T184324Z
UID:10001248-1788080400-1788085800@www.holytrinity.net
SUMMARY:Sunday Worship Service
DESCRIPTION:Worship service with Holy Communion
URL:https://www.holytrinity.net/event/sunday-worship-service/2026-08-30/
LOCATION:Holy Trinity Evangelical Lutheran Church\, 2086 Parkview Ave\, Abington\, PA\, 19001\, United States
CATEGORIES:Worship
END:VEVENT
BEGIN:VEVENT
DTSTART;TZID=America/New_York:20260905T170000
DTEND;TZID=America/New_York:20260905T183000
DTSTAMP:20260422T044910
CREATED:20201227T030000Z
LAST-MODIFIED:20250325T190737Z
UID:10001463-1788627600-1788633000@www.holytrinity.net
SUMMARY:Saturday Worship Service
DESCRIPTION:Worship service with Holy Communion.
URL:https://www.holytrinity.net/event/saturday-worship-service/2026-09-05/
LOCATION:Holy Trinity Evangelical Lutheran Church\, 2086 Parkview Ave\, Abington\, PA\, 19001\, United States
CATEGORIES:Worship
END:VEVENT
BEGIN:VEVENT
DTSTART;TZID=America/New_York:20260906T090000
DTEND;TZID=America/New_York:20260906T103000
DTSTAMP:20260422T044910
CREATED:20201227T190000Z
LAST-MODIFIED:20250325T184324Z
UID:10001249-1788685200-1788690600@www.holytrinity.net
SUMMARY:Sunday Worship Service
DESCRIPTION:Worship service with Holy Communion
URL:https://www.holytrinity.net/event/sunday-worship-service/2026-09-06/
LOCATION:Holy Trinity Evangelical Lutheran Church\, 2086 Parkview Ave\, Abington\, PA\, 19001\, United States
CATEGORIES:Worship
END:VEVENT
BEGIN:VEVENT
DTSTART;TZID=America/New_York:20260912T170000
DTEND;TZID=America/New_York:20260912T183000
DTSTAMP:20260422T044910
CREATED:20201227T030000Z
LAST-MODIFIED:20250325T190737Z
UID:10001464-1789232400-1789237800@www.holytrinity.net
SUMMARY:Saturday Worship Service
DESCRIPTION:Worship service with Holy Communion.
URL:https://www.holytrinity.net/event/saturday-worship-service/2026-09-12/
LOCATION:Holy Trinity Evangelical Lutheran Church\, 2086 Parkview Ave\, Abington\, PA\, 19001\, United States
CATEGORIES:Worship
END:VEVENT
BEGIN:VEVENT
DTSTART;TZID=America/New_York:20260913T090000
DTEND;TZID=America/New_York:20260913T103000
DTSTAMP:20260422T044910
CREATED:20201227T190000Z
LAST-MODIFIED:20250325T184324Z
UID:10001250-1789290000-1789295400@www.holytrinity.net
SUMMARY:Sunday Worship Service
DESCRIPTION:Worship service with Holy Communion
URL:https://www.holytrinity.net/event/sunday-worship-service/2026-09-13/
LOCATION:Holy Trinity Evangelical Lutheran Church\, 2086 Parkview Ave\, Abington\, PA\, 19001\, United States
CATEGORIES:Worship
END:VEVENT
BEGIN:VEVENT
DTSTART;TZID=America/New_York:20260919T170000
DTEND;TZID=America/New_York:20260919T183000
DTSTAMP:20260422T044910
CREATED:20201227T030000Z
LAST-MODIFIED:20250325T190737Z
UID:10001465-1789837200-1789842600@www.holytrinity.net
SUMMARY:Saturday Worship Service
DESCRIPTION:Worship service with Holy Communion.
URL:https://www.holytrinity.net/event/saturday-worship-service/2026-09-19/
LOCATION:Holy Trinity Evangelical Lutheran Church\, 2086 Parkview Ave\, Abington\, PA\, 19001\, United States
CATEGORIES:Worship
END:VEVENT
BEGIN:VEVENT
DTSTART;TZID=America/New_York:20260920T090000
DTEND;TZID=America/New_York:20260920T103000
DTSTAMP:20260422T044910
CREATED:20201227T190000Z
LAST-MODIFIED:20250325T184324Z
UID:10001251-1789894800-1789900200@www.holytrinity.net
SUMMARY:Sunday Worship Service
DESCRIPTION:Worship service with Holy Communion
URL:https://www.holytrinity.net/event/sunday-worship-service/2026-09-20/
LOCATION:Holy Trinity Evangelical Lutheran Church\, 2086 Parkview Ave\, Abington\, PA\, 19001\, United States
CATEGORIES:Worship
END:VEVENT
BEGIN:VEVENT
DTSTART;TZID=America/New_York:20260926T170000
DTEND;TZID=America/New_York:20260926T183000
DTSTAMP:20260422T044910
CREATED:20201227T030000Z
LAST-MODIFIED:20250325T190737Z
UID:10001466-1790442000-1790447400@www.holytrinity.net
SUMMARY:Saturday Worship Service
DESCRIPTION:Worship service with Holy Communion.
URL:https://www.holytrinity.net/event/saturday-worship-service/2026-09-26/
LOCATION:Holy Trinity Evangelical Lutheran Church\, 2086 Parkview Ave\, Abington\, PA\, 19001\, United States
CATEGORIES:Worship
END:VEVENT
BEGIN:VEVENT
DTSTART;TZID=America/New_York:20260927T090000
DTEND;TZID=America/New_York:20260927T103000
DTSTAMP:20260422T044910
CREATED:20201227T190000Z
LAST-MODIFIED:20250325T184324Z
UID:10001252-1790499600-1790505000@www.holytrinity.net
SUMMARY:Sunday Worship Service
DESCRIPTION:Worship service with Holy Communion
URL:https://www.holytrinity.net/event/sunday-worship-service/2026-09-27/
LOCATION:Holy Trinity Evangelical Lutheran Church\, 2086 Parkview Ave\, Abington\, PA\, 19001\, United States
CATEGORIES:Worship
END:VEVENT
BEGIN:VEVENT
DTSTART;TZID=America/New_York:20261003T170000
DTEND;TZID=America/New_York:20261003T183000
DTSTAMP:20260422T044910
CREATED:20201227T030000Z
LAST-MODIFIED:20250325T190737Z
UID:10001467-1791046800-1791052200@www.holytrinity.net
SUMMARY:Saturday Worship Service
DESCRIPTION:Worship service with Holy Communion.
URL:https://www.holytrinity.net/event/saturday-worship-service/2026-10-03/
LOCATION:Holy Trinity Evangelical Lutheran Church\, 2086 Parkview Ave\, Abington\, PA\, 19001\, United States
CATEGORIES:Worship
END:VEVENT
BEGIN:VEVENT
DTSTART;TZID=America/New_York:20261004T090000
DTEND;TZID=America/New_York:20261004T103000
DTSTAMP:20260422T044910
CREATED:20201227T190000Z
LAST-MODIFIED:20250325T184324Z
UID:10001253-1791104400-1791109800@www.holytrinity.net
SUMMARY:Sunday Worship Service
DESCRIPTION:Worship service with Holy Communion
URL:https://www.holytrinity.net/event/sunday-worship-service/2026-10-04/
LOCATION:Holy Trinity Evangelical Lutheran Church\, 2086 Parkview Ave\, Abington\, PA\, 19001\, United States
CATEGORIES:Worship
END:VEVENT
BEGIN:VEVENT
DTSTART;TZID=America/New_York:20261010T170000
DTEND;TZID=America/New_York:20261010T183000
DTSTAMP:20260422T044910
CREATED:20201227T030000Z
LAST-MODIFIED:20250325T190737Z
UID:10001468-1791651600-1791657000@www.holytrinity.net
SUMMARY:Saturday Worship Service
DESCRIPTION:Worship service with Holy Communion.
URL:https://www.holytrinity.net/event/saturday-worship-service/2026-10-10/
LOCATION:Holy Trinity Evangelical Lutheran Church\, 2086 Parkview Ave\, Abington\, PA\, 19001\, United States
CATEGORIES:Worship
END:VEVENT
BEGIN:VEVENT
DTSTART;TZID=America/New_York:20261011T090000
DTEND;TZID=America/New_York:20261011T103000
DTSTAMP:20260422T044910
CREATED:20201227T190000Z
LAST-MODIFIED:20250325T184324Z
UID:10001254-1791709200-1791714600@www.holytrinity.net
SUMMARY:Sunday Worship Service
DESCRIPTION:Worship service with Holy Communion
URL:https://www.holytrinity.net/event/sunday-worship-service/2026-10-11/
LOCATION:Holy Trinity Evangelical Lutheran Church\, 2086 Parkview Ave\, Abington\, PA\, 19001\, United States
CATEGORIES:Worship
END:VEVENT
BEGIN:VEVENT
DTSTART;TZID=America/New_York:20261017T170000
DTEND;TZID=America/New_York:20261017T183000
DTSTAMP:20260422T044910
CREATED:20201227T030000Z
LAST-MODIFIED:20250325T190737Z
UID:10001469-1792256400-1792261800@www.holytrinity.net
SUMMARY:Saturday Worship Service
DESCRIPTION:Worship service with Holy Communion.
URL:https://www.holytrinity.net/event/saturday-worship-service/2026-10-17/
LOCATION:Holy Trinity Evangelical Lutheran Church\, 2086 Parkview Ave\, Abington\, PA\, 19001\, United States
CATEGORIES:Worship
END:VEVENT
END:VCALENDAR