BEGIN:VCALENDAR
VERSION:2.0
PRODID:-//Holy Trinity Evangelical Lutheran Church - ECPv6.15.20//NONSGML v1.0//EN
CALSCALE:GREGORIAN
METHOD:PUBLISH
X-WR-CALNAME:Holy Trinity Evangelical Lutheran Church
X-ORIGINAL-URL:https://www.holytrinity.net
X-WR-CALDESC:Events for Holy Trinity Evangelical Lutheran Church
REFRESH-INTERVAL;VALUE=DURATION:PT1H
X-Robots-Tag:noindex
X-PUBLISHED-TTL:PT1H
BEGIN:VTIMEZONE
TZID:America/New_York
BEGIN:DAYLIGHT
TZOFFSETFROM:-0500
TZOFFSETTO:-0400
TZNAME:EDT
DTSTART:20240310T070000
END:DAYLIGHT
BEGIN:STANDARD
TZOFFSETFROM:-0400
TZOFFSETTO:-0500
TZNAME:EST
DTSTART:20241103T060000
END:STANDARD
BEGIN:DAYLIGHT
TZOFFSETFROM:-0500
TZOFFSETTO:-0400
TZNAME:EDT
DTSTART:20250309T070000
END:DAYLIGHT
BEGIN:STANDARD
TZOFFSETFROM:-0400
TZOFFSETTO:-0500
TZNAME:EST
DTSTART:20251102T060000
END:STANDARD
BEGIN:DAYLIGHT
TZOFFSETFROM:-0500
TZOFFSETTO:-0400
TZNAME:EDT
DTSTART:20260308T070000
END:DAYLIGHT
BEGIN:STANDARD
TZOFFSETFROM:-0400
TZOFFSETTO:-0500
TZNAME:EST
DTSTART:20261101T060000
END:STANDARD
END:VTIMEZONE
BEGIN:VEVENT
DTSTART;TZID=America/New_York:20250416T093000
DTEND;TZID=America/New_York:20250416T100000
DTSTAMP:20260421T040149
CREATED:20250302T230223Z
LAST-MODIFIED:20250302T230223Z
UID:10001686-1744795800-1744797600@www.holytrinity.net
SUMMARY:Lenten Morning Prayers
DESCRIPTION:Start your day with God.
URL:https://www.holytrinity.net/event/lenten-morning-prayers-2/2025-04-16/
LOCATION:Holy Trinity Evangelical Lutheran Church\, 2086 Parkview Ave\, Abington\, PA\, 19001\, United States
CATEGORIES:Worship
END:VEVENT
BEGIN:VEVENT
DTSTART;TZID=America/New_York:20250416T183000
DTEND;TZID=America/New_York:20250416T190000
DTSTAMP:20260421T040149
CREATED:20250302T231844Z
LAST-MODIFIED:20250302T231946Z
UID:10001717-1744828200-1744830000@www.holytrinity.net
SUMMARY:Lenten Evening Prayer
DESCRIPTION:Evening service in the sanctuary \nTake Note: Incense will be used at these services.
URL:https://www.holytrinity.net/event/lenten-evening-prayer/2025-04-16/
LOCATION:Holy Trinity Evangelical Lutheran Church\, 2086 Parkview Ave\, Abington\, PA\, 19001\, United States
CATEGORIES:Worship
END:VEVENT
BEGIN:VEVENT
DTSTART;TZID=America/New_York:20250416T190000
DTEND;TZID=America/New_York:20250416T193000
DTSTAMP:20260421T040149
CREATED:20250302T232140Z
LAST-MODIFIED:20250302T232140Z
UID:10001729-1744830000-1744831800@www.holytrinity.net
SUMMARY:Lenten Supper
DESCRIPTION:Light supper in Fellowship Hall following service \n 
URL:https://www.holytrinity.net/event/lenten-supper/2025-04-16/
LOCATION:Holy Trinity Evangelical Lutheran Church\, 2086 Parkview Ave\, Abington\, PA\, 19001\, United States
CATEGORIES:Worship
END:VEVENT
BEGIN:VEVENT
DTSTART;TZID=America/New_York:20250416T193000
DTEND;TZID=America/New_York:20250416T200000
DTSTAMP:20260421T040149
CREATED:20250302T232321Z
LAST-MODIFIED:20250302T232321Z
UID:10001741-1744831800-1744833600@www.holytrinity.net
SUMMARY:Bible Study
DESCRIPTION:Bible Study (SS Peter and Andrew) following supper
URL:https://www.holytrinity.net/event/bible-study/2025-04-16/
LOCATION:Holy Trinity Evangelical Lutheran Church\, 2086 Parkview Ave\, Abington\, PA\, 19001\, United States
CATEGORIES:Worship
END:VEVENT
END:VCALENDAR